BEGIN:VCALENDAR
VERSION:2.0
PRODID:-//Atlantis London//Events//EN
CALSCALE:GREGORIAN
METHOD:PUBLISH
BEGIN:VEVENT
UID:seed0012-1777057200@www.ukdemo.atlantis.show
DTSTAMP:20260420T120559Z
DTSTART:20260424T190000Z
DTEND:20260424T220000Z
SUMMARY:Kenan Doğulu — London
DESCRIPTION:Platinum-selling Turkish pop icon — Eurovision 2007 finalist\, three-decade career.
LOCATION:Barbican Centre\, London\, United Kingdom
URL:https://www.ukdemo.atlantis.show/event/kenan-dogulu-london-apr-24
STATUS:CONFIRMED
END:VEVENT
END:VCALENDAR
