BEGIN:VCALENDAR
VERSION:2.0
PRODID:-//Atlantis London//Events//EN
CALSCALE:GREGORIAN
METHOD:PUBLISH
BEGIN:VEVENT
UID:seed0022-1778180400@www.ukdemo.atlantis.show
DTSTAMP:20260420T132850Z
DTSTART:20260507T190000Z
DTEND:20260507T220000Z
SUMMARY:Inna — Dublin
DESCRIPTION:Romania's biggest global pop export — five billion streams\, multiple EMA wins.
LOCATION:3Olympia Theatre\, Dublin\, Ireland
URL:https://www.ukdemo.atlantis.show/event/inna-dublin-may-07
STATUS:CONFIRMED
END:VEVENT
END:VCALENDAR
