BEGIN:VCALENDAR
VERSION:2.0
PRODID:-//Atlantis London//Events//EN
CALSCALE:GREGORIAN
METHOD:PUBLISH
BEGIN:VEVENT
UID:seed0031-1794254400@www.ukdemo.atlantis.show
DTSTAMP:20260420T132138Z
DTSTART:20261109T200000Z
DTEND:20261109T230000Z
SUMMARY:Goran Bregović — Oslo
DESCRIPTION:Balkan composer — from Bijelo Dugme rock to Kusturica scores and the Wedding & Funeral Orchestra.
LOCATION:Oslo Konserthus\, Oslo\, Norway
URL:https://www.ukdemo.atlantis.show/event/goran-bregovic-oslo
STATUS:CONFIRMED
END:VEVENT
END:VCALENDAR
