BEGIN:VCALENDAR
VERSION:2.0
PRODID:-//Atlantis London//Events//EN
CALSCALE:GREGORIAN
METHOD:PUBLISH
BEGIN:VEVENT
UID:seed0030-1794168000@www.ukdemo.atlantis.show
DTSTAMP:20260420T114405Z
DTSTART:20261108T200000Z
DTEND:20261108T230000Z
SUMMARY:Goran Bregović — London
DESCRIPTION:Balkan composer — from Bijelo Dugme rock to Kusturica scores and the Wedding & Funeral Orchestra.
LOCATION:Cadogan Hall\, London\, United Kingdom
URL:https://www.ukdemo.atlantis.show/event/goran-bregovic-london-nov-08
STATUS:CONFIRMED
END:VEVENT
END:VCALENDAR
