BEGIN:VCALENDAR
VERSION:2.0
PRODID:-//Atlantis London//Events//EN
CALSCALE:GREGORIAN
METHOD:PUBLISH
BEGIN:VEVENT
UID:seed0028-1793995200@www.ukdemo.atlantis.show
DTSTAMP:20260420T133802Z
DTSTART:20261106T200000Z
DTEND:20261106T230000Z
SUMMARY:Goran Bregović — Copenhagen
DESCRIPTION:Balkan composer — from Bijelo Dugme rock to Kusturica scores and the Wedding & Funeral Orchestra.
LOCATION:DR Koncerthuset\, Copenhagen\, Denmark
URL:https://www.ukdemo.atlantis.show/event/goran-bregovic-copenhagen-nov-06
STATUS:CONFIRMED
END:VEVENT
END:VCALENDAR
