BEGIN:VCALENDAR
VERSION:2.0
PRODID:-//Atlantis London//Events//EN
CALSCALE:GREGORIAN
METHOD:PUBLISH
BEGIN:VEVENT
UID:seed0020-1777662000@www.ukdemo.atlantis.show
DTSTAMP:20260420T134647Z
DTSTART:20260501T190000Z
DTEND:20260501T220000Z
SUMMARY:George Dalaras — Stockholm
DESCRIPTION:Greek music legend — nearly 90 albums\, 18+ million records sold\, a living archive of Mediterranean song.
LOCATION:Konserthuset Stockholm\, Stockholm\, Sweden
URL:https://www.ukdemo.atlantis.show/event/george-dalaras-stockholm-may-01
STATUS:CONFIRMED
END:VEVENT
END:VCALENDAR
