BEGIN:VCALENDAR
VERSION:2.0
PRODID:-//Atlantis London//Events//EN
CALSCALE:GREGORIAN
METHOD:PUBLISH
BEGIN:VEVENT
UID:seed0019-1777489200@www.ukdemo.atlantis.show
DTSTAMP:20260420T134112Z
DTSTART:20260429T190000Z
DTEND:20260429T220000Z
SUMMARY:George Dalaras — Paris
DESCRIPTION:Greek music legend — nearly 90 albums\, 18+ million records sold\, a living archive of Mediterranean song.
LOCATION:La Cigale\, Paris\, France
URL:https://www.ukdemo.atlantis.show/event/george-dalaras-paris-apr-29
STATUS:CONFIRMED
END:VEVENT
END:VCALENDAR
