BEGIN:VCALENDAR
VERSION:2.0
PRODID:-//Atlantis London//Events//EN
CALSCALE:GREGORIAN
METHOD:PUBLISH
BEGIN:VEVENT
UID:seed0017-1777316400@www.ukdemo.atlantis.show
DTSTAMP:20260420T114501Z
DTSTART:20260427T190000Z
DTEND:20260427T220000Z
SUMMARY:George Dalaras — London
DESCRIPTION:Greek music legend — nearly 90 albums\, 18+ million records sold\, a living archive of Mediterranean song.
LOCATION:Union Chapel\, London\, United Kingdom
URL:https://www.ukdemo.atlantis.show/event/george-dalaras-london-apr-27
STATUS:CONFIRMED
END:VEVENT
END:VCALENDAR
