BEGIN:VCALENDAR
VERSION:2.0
PRODID:-//Atlantis London//Events//EN
CALSCALE:GREGORIAN
METHOD:PUBLISH
BEGIN:VEVENT
UID:seed0021-1777834800@www.ukdemo.atlantis.show
DTSTAMP:20260420T132453Z
DTSTART:20260503T190000Z
DTEND:20260503T220000Z
SUMMARY:George Dalaras — Helsinki
DESCRIPTION:Greek music legend — nearly 90 albums\, 18+ million records sold\, a living archive of Mediterranean song.
LOCATION:Finlandia Hall\, Helsinki\, Finland
URL:https://www.ukdemo.atlantis.show/event/george-dalaras-helsinki-may-03
STATUS:CONFIRMED
END:VEVENT
END:VCALENDAR
