BEGIN:VCALENDAR
VERSION:2.0
PRODID:-//Atlantis London//Events//EN
CALSCALE:GREGORIAN
METHOD:PUBLISH
BEGIN:VEVENT
UID:seed0015-1777230000@www.ukdemo.atlantis.show
DTSTAMP:20260420T133816Z
DTSTART:20260426T190000Z
DTEND:20260426T220000Z
SUMMARY:Café Del Mundo — Leeds
DESCRIPTION:Virtuoso flamenco-guitar duo Jan Pascal & Alexander Kilian\, fusing flamenco\, tango\, jazz and classical.
LOCATION:Leeds Town Hall\, Leeds\, United Kingdom
URL:https://www.ukdemo.atlantis.show/event/cafe-del-mundo-leeds-apr-26
STATUS:CONFIRMED
END:VEVENT
END:VCALENDAR
