BEGIN:VCALENDAR
VERSION:2.0
PRODID:-//Atlantis London//Events//EN
CALSCALE:GREGORIAN
METHOD:PUBLISH
BEGIN:VEVENT
UID:seed0018-1777402800@www.ukdemo.atlantis.show
DTSTAMP:20260420T133215Z
DTSTART:20260428T190000Z
DTEND:20260428T220000Z
SUMMARY:Café Del Mundo — Dublin
DESCRIPTION:Virtuoso flamenco-guitar duo Jan Pascal & Alexander Kilian\, fusing flamenco\, tango\, jazz and classical.
LOCATION:3Olympia Theatre\, Dublin\, Ireland
URL:https://www.ukdemo.atlantis.show/event/cafe-del-mundo-dublin-apr-28
STATUS:CONFIRMED
END:VEVENT
END:VCALENDAR
