BEGIN:VCALENDAR
VERSION:2.0
PRODID:-//Atlantis London//Events//EN
CALSCALE:GREGORIAN
METHOD:PUBLISH
BEGIN:VEVENT
UID:seed0016-1777316400@www.ukdemo.atlantis.show
DTSTAMP:20260420T133215Z
DTSTART:20260427T190000Z
DTEND:20260427T220000Z
SUMMARY:Café Del Mundo — Belfast
DESCRIPTION:Virtuoso flamenco-guitar duo Jan Pascal & Alexander Kilian\, fusing flamenco\, tango\, jazz and classical.
LOCATION:Ulster Hall\, Belfast\, Ireland
URL:https://www.ukdemo.atlantis.show/event/cafe-del-mundo-belfast-apr-27
STATUS:CONFIRMED
END:VEVENT
END:VCALENDAR
