BEGIN:VCALENDAR
VERSION:2.0
PRODID:-//Atlantis London//Events//EN
CALSCALE:GREGORIAN
METHOD:PUBLISH
BEGIN:VEVENT
UID:seed0024-1778439600@www.ukdemo.atlantis.show
DTSTAMP:20260420T133014Z
DTSTART:20260510T190000Z
DTEND:20260510T220000Z
SUMMARY:Buika — Paris
DESCRIPTION:Grammy-recognised Spanish voice — flamenco\, soul and jazz distilled into a singular instrument.
LOCATION:La Cigale\, Paris\, France
URL:https://www.ukdemo.atlantis.show/event/buika-paris-may-10
STATUS:CONFIRMED
END:VEVENT
END:VCALENDAR
