BEGIN:VCALENDAR
VERSION:2.0
PRODID:-//Atlantis London//Events//EN
CALSCALE:GREGORIAN
METHOD:PUBLISH
BEGIN:VEVENT
UID:seed0023-1778266800@www.ukdemo.atlantis.show
DTSTAMP:20260420T115533Z
DTSTART:20260508T190000Z
DTEND:20260508T220000Z
SUMMARY:Buika — London
DESCRIPTION:Grammy-recognised Spanish voice — flamenco\, soul and jazz distilled into a singular instrument.
LOCATION:Royal Albert Hall\, London\, United Kingdom
URL:https://www.ukdemo.atlantis.show/event/buika-london-may-08
STATUS:CONFIRMED
END:VEVENT
END:VCALENDAR
